BEGIN:VCALENDAR
VERSION:2.0
PRODID:-//eventon.com NONSGML v1.0//EN
CALSCALE:GREGORIAN
METHOD:PUBLISH
BEGIN:VEVENT
UID:69e756081cd05
DTSTAMP:20260421T104840Z
DTSTART:20260322T210000Z
DTEND:20260322T230000Z
LOCATION:
SUMMARY:Second Baptist Church
DESCRIPTION:1016 Wood Street Bethlehem\,  PA 18017 Bishop-Elect Paul Patric
 k\,  Pastor\nhttps://www.davidgevans.com/events/second-baptist-church/
URL:https://www.davidgevans.com/events/second-baptist-church/
END:VEVENT
END:VCALENDAR